BEGIN:VCALENDAR
VERSION:2.0
PRODID:-//VEEDELSFREIRAUM - ECPv5.16.4//NONSGML v1.0//EN
CALSCALE:GREGORIAN
METHOD:PUBLISH
X-WR-CALNAME:VEEDELSFREIRAUM
X-ORIGINAL-URL:https://veedelsfreiraum.de
X-WR-CALDESC:Veranstaltungen für VEEDELSFREIRAUM
REFRESH-INTERVAL;VALUE=DURATION:PT1H
X-Robots-Tag:noindex
X-PUBLISHED-TTL:PT1H
BEGIN:VTIMEZONE
TZID:Europe/Berlin
BEGIN:DAYLIGHT
TZOFFSETFROM:+0100
TZOFFSETTO:+0200
TZNAME:CEST
DTSTART:20230326T010000
END:DAYLIGHT
BEGIN:STANDARD
TZOFFSETFROM:+0200
TZOFFSETTO:+0100
TZNAME:CET
DTSTART:20231029T010000
END:STANDARD
END:VTIMEZONE
BEGIN:VEVENT
DTSTART;VALUE=DATE:20230428
DTEND;VALUE=DATE:20230508
DTSTAMP:20260424T164011
CREATED:20230310T123515Z
LAST-MODIFIED:20230310T123515Z
UID:530-1682640000-1683503999@veedelsfreiraum.de
SUMMARY:Musik oder nichts
DESCRIPTION:»Musik oder Nichts« 28. April bis 7. Mai\nZur dreizehnten Festivalausgabe von ACHT BRÜCKEN | Musik für Köln ist das Publikum vom 28. April bis 7. Mai 2023 unter dem Motto »Musik oder Nichts« eingeladen\, sich in 50 Konzerten mit 36 neuen Werken von der Freude an der Klanggestaltung anstecken zu lassen und eine neue Art des Hörens zu praktizieren: fokussiert\, unvoreingenommen und neugierig. Im Fokus steht das Werk der Komponistin Rebecca Saunders. [..] \nZur Veranstaltung
URL:https://veedelsfreiraum.de/event/musik-oder-nichts/
LOCATION:Köln\, diverse
END:VEVENT
END:VCALENDAR