BEGIN:VCALENDAR
VERSION:2.0
PRODID:-//VEEDELSFREIRAUM - ECPv5.16.4//NONSGML v1.0//EN
CALSCALE:GREGORIAN
METHOD:PUBLISH
X-ORIGINAL-URL:https://veedelsfreiraum.de
X-WR-CALDESC:Veranstaltungen für VEEDELSFREIRAUM
REFRESH-INTERVAL;VALUE=DURATION:PT1H
X-Robots-Tag:noindex
X-PUBLISHED-TTL:PT1H
BEGIN:VTIMEZONE
TZID:Europe/Berlin
BEGIN:DAYLIGHT
TZOFFSETFROM:+0100
TZOFFSETTO:+0200
TZNAME:CEST
DTSTART:20230326T010000
END:DAYLIGHT
BEGIN:STANDARD
TZOFFSETFROM:+0200
TZOFFSETTO:+0100
TZNAME:CET
DTSTART:20231029T010000
END:STANDARD
END:VTIMEZONE
BEGIN:VEVENT
DTSTART;TZID=Europe/Berlin:20230618T133000
DTEND;TZID=Europe/Berlin:20230618T170000
DTSTAMP:20260424T151045
CREATED:20230616T093452Z
LAST-MODIFIED:20230616T093452Z
UID:598-1687095000-1687107600@veedelsfreiraum.de
SUMMARY:Kidical Mass & Sternfahrt Köln treffen VERKEHRTE WELT
DESCRIPTION:Sonntag\, 18. Juni 2023\nStart: 13:30 Uhr Aachener Weiher \nKidical Mass & Sternfahrt Köln treffen VERKEHRTE WELT\nUnter dem Motto „Stadt\, Land\, Rad – Wir bewegen was“ findet zum 16. Mal die Kölner Sternfahrt statt.\nSternförmig führen Fahrrad-Routen aus dem Umland Kölns und durch verschiedene Kölner Veedel zum Aachener Weiher\, wo sich um 13:30 Uhr alle Routen treffen.\nDort führt die Kidical Mass die Innenstadt Route an und endet am Ottoplatz (BF Deutz) für den großartigen Ausklang.\nErstmalige Kooperation von der Kidical Mass & Sternfahrt Köln mit dem Stadtprojekt VERKEHRTE WELT vom Impulse Theater Festival.\nAbschluss mit Performance von Turbo Pascal\, Überraschungsband\, Eisbike\, Waffelbike\, Rollerdisco und uvm.\nSeid dabei!\n \n \nGemeinsam erobern wir die Straßen\, denn Straßen sind für alle da!\nFamilien & Freund*innen. Ob 0 oder 99 Jahre.\nDie Polizei sichert die Wege. \nAlle Infos zu den Kölner Sternfahrt Routen aus den Veedeln und dem Umland findet ihr hier\nhttps://www.sternfahrt-koeln.de/
URL:https://veedelsfreiraum.de/event/kidical-mass-sternfahrt-koeln-treffen-verkehrte-welt/
LOCATION:Aachener Weyer\, Aachener Weiher\, Köln\, 50674
ATTACH;FMTTYPE=image/jpeg:https://veedelsfreiraum.de/wp-content/uploads/2023/06/KidicalMassKoeln_Sternfahrt_Juni-2_FB-1024x538-1.jpg
END:VEVENT
BEGIN:VEVENT
DTSTART;TZID=Europe/Berlin:20230618T180000
DTEND;TZID=Europe/Berlin:20230618T193000
DTSTAMP:20260424T151045
CREATED:20230616T090236Z
LAST-MODIFIED:20230616T090345Z
UID:575-1687111200-1687116600@veedelsfreiraum.de
SUMMARY:VeedelsfreiBAUM: Bäume gießen im Lentpark
DESCRIPTION:PDF VeedelsfreiBAUM
URL:https://veedelsfreiraum.de/event/veedelsfreibaum-baeume-giessen-im-lentpark/
LOCATION:Lentpark\, Neusser Straße 93\, Köln\, 50668
ATTACH;FMTTYPE=image/jpeg:https://veedelsfreiraum.de/wp-content/uploads/2023/06/VeedelsfreiBAUM-1-1-scaled.jpg
END:VEVENT
END:VCALENDAR