BEGIN:VCALENDAR
VERSION:2.0
PRODID:-//VEEDELSFREIRAUM - ECPv5.16.4//NONSGML v1.0//EN
CALSCALE:GREGORIAN
METHOD:PUBLISH
X-ORIGINAL-URL:https://veedelsfreiraum.de
X-WR-CALDESC:Veranstaltungen für VEEDELSFREIRAUM
REFRESH-INTERVAL;VALUE=DURATION:PT1H
X-Robots-Tag:noindex
X-PUBLISHED-TTL:PT1H
BEGIN:VTIMEZONE
TZID:Europe/Berlin
BEGIN:DAYLIGHT
TZOFFSETFROM:+0100
TZOFFSETTO:+0200
TZNAME:CEST
DTSTART:20230326T010000
END:DAYLIGHT
BEGIN:STANDARD
TZOFFSETFROM:+0200
TZOFFSETTO:+0100
TZNAME:CET
DTSTART:20231029T010000
END:STANDARD
END:VTIMEZONE
BEGIN:VEVENT
DTSTART;TZID=Europe/Berlin:20231222T180000
DTEND;TZID=Europe/Berlin:20231222T190000
DTSTAMP:20260423T184402
CREATED:20231219T132748Z
LAST-MODIFIED:20231219T133841Z
UID:705-1703268000-1703271600@veedelsfreiraum.de
SUMMARY:Weihnachtssingen Alvenslebenstraße
DESCRIPTION:Das Jahr klingt langsam aus und viele von uns befinden sich im alljährlichen Jahresendspurt. Für die einen ist dies die Zeit der besinnlichen Weihnacht\, während die anderen den Weihnachts-Wahnsinn fürchten. Manche finden sich irgendwo in der Mitte wieder. \nEgal\, wo ihr euch gerade wiederfindet: \nIhr alle seid herzlich eingeladen\, mit uns das Jahr beim gemeinsamen “Weihnachtssingen Alvenslebenstraße” ausklingen zu lassen. \nDieses Jahr ein wenig kleiner aber sicher ebenso besinnlich wie in 2022.
URL:https://veedelsfreiraum.de/event/weihnachtssingen-alvenslebenstrasse/
LOCATION:Alvenslebenstraße\, Alvenslebenstraße\, Köln\, 50668
ATTACH;FMTTYPE=image/png:https://veedelsfreiraum.de/wp-content/uploads/2023/12/Weihnachtssingen.png
END:VEVENT
END:VCALENDAR