BEGIN:VCALENDAR
VERSION:2.0
PRODID:-//VEEDELSFREIRAUM - ECPv5.16.4//NONSGML v1.0//EN
CALSCALE:GREGORIAN
METHOD:PUBLISH
X-WR-CALNAME:VEEDELSFREIRAUM
X-ORIGINAL-URL:https://veedelsfreiraum.de
X-WR-CALDESC:Veranstaltungen für VEEDELSFREIRAUM
REFRESH-INTERVAL;VALUE=DURATION:PT1H
X-Robots-Tag:noindex
X-PUBLISHED-TTL:PT1H
BEGIN:VTIMEZONE
TZID:Europe/Berlin
BEGIN:DAYLIGHT
TZOFFSETFROM:+0100
TZOFFSETTO:+0200
TZNAME:CEST
DTSTART:20240331T010000
END:DAYLIGHT
BEGIN:STANDARD
TZOFFSETFROM:+0200
TZOFFSETTO:+0100
TZNAME:CET
DTSTART:20241027T010000
END:STANDARD
END:VTIMEZONE
BEGIN:VEVENT
DTSTART;TZID=Europe/Berlin:20240921T110000
DTEND;TZID=Europe/Berlin:20240921T173000
DTSTAMP:20260423T043959
CREATED:20240906T122140Z
LAST-MODIFIED:20240906T122140Z
UID:836-1726916400-1726939800@veedelsfreiraum.de
SUMMARY:Superblock Treffen NRW
DESCRIPTION:Liebe Interessierte und Teilnehmer:innen für das Superblock Treffen\,\n\nwir sind schon intensiv in der Planung für den 21.09. und freuen uns darauf euch zu sehen\, uns zu vernetzen und gemeinsam die Superblock Bewegung NRW weiter zu gestalten!\n\nWir freuen uns auf den Kölner Mobilitätsdezernenten Ascan Egerer\, der direkt zum Start in einer Gesprächsrunde aus Sicht der Stadtverwaltung auf das Thema Superblocks schaut und unsere Fragen beantworten kann. Gespannt sind wir auch auf Valentina aus Berlin\, die die bundesweite Superblock Bewegung koordiniert und extra zu uns nach Köln reist um uns auf den aktuellen Stand zu bringen und in einem Workshop mit uns arbeitet. Zudem freuen wir uns auf Sebastian aus Hamburg\, der über das inspirierende Projekt Hamburg Ottensen berichten wird. Darüber hinaus werden wir viel Zeit zum Austausch haben und uns in kleinen Workshops weiter fortbilden können.\n\nDer genaue zeitliche Ablauf folgt noch.\n\nHier schonmal die wichtigsten Eckdaten: \n\nWann?  am 21.09.24 von 11-17.30 Uhr mit (optional) anschließendem Veedelsrundgang durch das Winzerveedel und Kölsch trinken\nWo? im Gotland e.V. (Vorgebirgsstraße 20)\nWir sorgen für Mittagessen und Kaffee.\n\nWichtig für euch noch:\n\n1. Bitte schickt die Email an eure Initiativen weiter. Wir haben noch nicht alle Adressen sammeln können. Bitte meldet euch noch bei mir (veedelsfreiraum@gmail.com)  oder bei Dominik (dominikkerl@me.com) an\, falls ihr das noch nicht getan habt. Am besten innerhalb der nächsten Woche\, so dass wir euch noch einplanen können. Das gleiche gilt für Absagen. Vielen Dank euch!\n\n2. Bringt bitte ein paar Fotos oder Flyer/Plakate eurer Initiativen mit; wir würden dazu gerne eine kleine Ausstellung machen.\n\nWir freuen uns auf ein fröhliches Vernetzungstreffen voller guter Ideen für unsere Superblocks und verbunden mit viel Zuversicht auf eine lebenswerte Zukunft in unseren Städten\,\n\nLiebe Grüße\n\nDer Dachverband der Kölner Superveedel
URL:https://veedelsfreiraum.de/event/superblock-treffen-nrw/
LOCATION:Gotland e.V.\, Vorgebirgsstraße 20\, Köln
END:VEVENT
END:VCALENDAR