BEGIN:VCALENDAR
VERSION:2.0
PRODID:-//VEEDELSFREIRAUM - ECPv5.16.4//NONSGML v1.0//EN
CALSCALE:GREGORIAN
METHOD:PUBLISH
X-ORIGINAL-URL:https://veedelsfreiraum.de
X-WR-CALDESC:Veranstaltungen für VEEDELSFREIRAUM
REFRESH-INTERVAL;VALUE=DURATION:PT1H
X-Robots-Tag:noindex
X-PUBLISHED-TTL:PT1H
BEGIN:VTIMEZONE
TZID:Europe/Berlin
BEGIN:DAYLIGHT
TZOFFSETFROM:+0100
TZOFFSETTO:+0200
TZNAME:CEST
DTSTART:20250330T010000
END:DAYLIGHT
BEGIN:STANDARD
TZOFFSETFROM:+0200
TZOFFSETTO:+0100
TZNAME:CET
DTSTART:20251026T010000
END:STANDARD
END:VTIMEZONE
BEGIN:VEVENT
DTSTART;TZID=Europe/Berlin:20250921T123000
DTEND;TZID=Europe/Berlin:20250921T200000
DTSTAMP:20260420T003557
CREATED:20250910T104215Z
LAST-MODIFIED:20250912T152854Z
UID:955-1758457800-1758484800@veedelsfreiraum.de
SUMMARY:PARK-PLATZ-TAG
DESCRIPTION:🌿 Park-Platz-Tag 2025 – Erlebe das Veedel von morgen! 🚶‍♀️🚴‍♂️🌳\nDatum: Sonntag\, 21.09.2025\nZeit: ab 12.30 Uhr\nOrt: Parkplatz hinter der Christuskirche\, Spichernstraße 36\, 50672 Köln\nVeranstalter: Stadtgarten e.V. – mit Unterstützung von Veedelsfreiraum und weiteren Partnern \n\n🏙️ Ein grauer Parkplatz wird zum lebendigen Veedel\nAm 21. September wird’s bunt in der Kölner Innenstadt! Gemeinsam mit dem Stadtgarten e.V. und vielen engagierten Initiativen verwandeln wir den sonst grauen Parkplatz hinter der Christuskirche in einen autofreien Begegnungsort für alle Generationen. Die Spichernstraße wird dafür für den Autoverkehr gesperrt – und öffnet sich für Ideen\, Begegnung und urbane Zukunftsvisionen. \n\n💡 Das erwartet euch\n\n\n12.30 Uhr: Offizielle Eröffnung mit Viktor Haase (NRW-Umweltministerium) & Bürgermeister Andreas Wolter \n\n\n13.15 Uhr: Vorstellung der Kölner Superveedel & „1000 Stühle 1000 Bäume“ (hdak) \n\n\n14.00–15.30 Uhr: Große Diskussionsrunde mit Vertreter:innen aus Stadt\, Wirtschaft\, Wissenschaft & Zivilgesellschaft \n\n\n16.00 Uhr: Einfahrt der Kidical Mass zum 5-jährigen Jubiläum – mit Musik\, Familien und Verkehrswende-Aktivistin Katja Diehl \n\n\nab 15.30 Uhr: Kirchturm-Besteigung\, Hip-Hop\, Aktionen\, Begegnungen & ein Markt der Möglichkeiten \n\n\n18.30 Uhr: Gemeinsamer Ausblick – Was nehmen wir mit? \n\n\n\n🌱 Superveedel statt Superblock\nDer Park-Platz-Tag ist mehr als nur ein Event – er ist Teil eines größeren Wandels. Das Stadtgarten-Viertel wurde von der Bezirksvertretung Innenstadt offiziell als Kölner Superveedel beschlossen. Ziel: Mehr Grün\, sichere Schulwege\, weniger Durchgangsverkehr – und ein „oma- und enkeltaugliches“ Quartier mit echter Lebensqualität. \nDas Projekt „1000 Stühle 1000 Bäume“ des Hauses der Architektur Köln begleitet diese Transformation – und der Park-Platz-Tag ist der erste sichtbare Schritt auf diesem Weg. \n\n👥 Wir sind dabei – und freuen uns auf euch!\nVeedelsfreiraum unterstützt den Park-Platz-Tag als Kooperationspartner. Wir sind vor Ort\, laden zum Gespräch ein – und freuen uns auf Austausch\, Visionen und konkrete Ideen für unser Viertel von morgen. \nKommt vorbei\, bringt eure Familie und Freund:innen mit – und erlebt\, wie Stadt anders geht.
URL:https://veedelsfreiraum.de/event/park-platz-tag/
LOCATION:Christuskirche\, Spichernstraße 36\, Köln\, NRW\, 50672\, Deutschland
END:VEVENT
END:VCALENDAR