BEGIN:VCALENDAR
VERSION:2.0
PRODID:-//VEEDELSFREIRAUM - ECPv5.16.4//NONSGML v1.0//EN
CALSCALE:GREGORIAN
METHOD:PUBLISH
X-ORIGINAL-URL:https://veedelsfreiraum.de
X-WR-CALDESC:Veranstaltungen für VEEDELSFREIRAUM
REFRESH-INTERVAL;VALUE=DURATION:PT1H
X-Robots-Tag:noindex
X-PUBLISHED-TTL:PT1H
BEGIN:VTIMEZONE
TZID:Europe/Berlin
BEGIN:DAYLIGHT
TZOFFSETFROM:+0100
TZOFFSETTO:+0200
TZNAME:CEST
DTSTART:20230326T010000
END:DAYLIGHT
BEGIN:STANDARD
TZOFFSETFROM:+0200
TZOFFSETTO:+0100
TZNAME:CET
DTSTART:20231029T010000
END:STANDARD
END:VTIMEZONE
BEGIN:VEVENT
DTSTART;TZID=Europe/Berlin:20230319T150000
DTEND;TZID=Europe/Berlin:20230319T170000
DTSTAMP:20260424T181511
CREATED:20230310T123818Z
LAST-MODIFIED:20230310T145242Z
UID:538-1679238000-1679245200@veedelsfreiraum.de
SUMMARY:Kidical Mass März 2023
DESCRIPTION:Bunte Frühlings-Fahrraddemo für ein kinder- und fahrradfreundliches Köln!\nSonntag\, 19.03.2023\nStart: 15:00 Uhr Rudolfplatz\nZiel: Stadtgarten\, Innenstadt\nWeitere Infos zur Fahrraddemo \nFlyer_KidicalMassKöln_März
URL:https://veedelsfreiraum.de/event/kidical-mass-maerz-2023/
LOCATION:Rudolfplatz\, Rudolfplatz\, Köln\, 50674
END:VEVENT
END:VCALENDAR