BEGIN:VCALENDAR
VERSION:2.0
PRODID:-//VEEDELSFREIRAUM - ECPv5.16.4//NONSGML v1.0//EN
CALSCALE:GREGORIAN
METHOD:PUBLISH
X-WR-CALNAME:VEEDELSFREIRAUM
X-ORIGINAL-URL:https://veedelsfreiraum.de
X-WR-CALDESC:Veranstaltungen für VEEDELSFREIRAUM
REFRESH-INTERVAL;VALUE=DURATION:PT1H
X-Robots-Tag:noindex
X-PUBLISHED-TTL:PT1H
BEGIN:VTIMEZONE
TZID:Europe/Berlin
BEGIN:DAYLIGHT
TZOFFSETFROM:+0100
TZOFFSETTO:+0200
TZNAME:CEST
DTSTART:20250330T010000
END:DAYLIGHT
BEGIN:STANDARD
TZOFFSETFROM:+0200
TZOFFSETTO:+0100
TZNAME:CET
DTSTART:20251026T010000
END:STANDARD
END:VTIMEZONE
BEGIN:VEVENT
DTSTART;TZID=Europe/Berlin:20250504T150000
DTEND;TZID=Europe/Berlin:20250504T190000
DTSTAMP:20260420T060343
CREATED:20250318T161458Z
LAST-MODIFIED:20250319T093754Z
UID:865-1746370800-1746385200@veedelsfreiraum.de
SUMMARY:Langer Desch 2025 – Der längste Tisch der Weißenburgstraße! 🍽️🏡
DESCRIPTION:Am 4. Mai 2025 verwandeln wir die Weißenburgstraße erneut in den längsten Tisch des Agnesviertels! 🌿🚶‍♂️ \nWas ist geplant? \nDie Weißenburgstraße\, gesäumt von alten Platanen und mit ihrem wunderschönen Mittelstreifen\, wird für einen Tag zum größten Gemeinschaftstisch Kölns. Jede:r bringt einen Tisch mit – zusammen schaffen wir einen endlosen\, bunten Tisch voller Begegnung\, Austausch und Miteinander! Wer keinen Tisch hat? Kein Problem! Stühle\, Essen und gute Laune sind genauso willkommen. 😊🎉 \nWer kann teilnehmen? \nAlle! Anwohner:innen\, Familien\, Freundeskreise und alle\, die Lust auf ein offenes\, lebendiges Veedel haben. 🏡💚 \n🎈 Was ihr mitbringen könnt: \n✔️ Einen Tisch – oder einfach nur euch selbst! \n✔️ Essen & Getränke zum Teilen 🍞🍇🥂 \n✔️ Spiele\, Instrumente oder Dekoration 🏓🎸🌺 \nWarum das Ganze? \nWir als Veedelsfreiraum setzen uns für eine demokratische Gestaltung des öffentlichen Raumes ein. Der Lange Desch zeigt\, was möglich ist\, wenn Straßen nicht nur für Autos\, sondern für Menschen da sind! Es geht um Zusammenhalt\, Begegnung und das Zurückholen des öffentlichen Raumes in unser aller Hände. 🌍🤝 \nLasst uns gemeinsam einen Tisch der Nachbarschaft bauen – und einen Tag lang genießen\, was unser Veedel so besonders macht! \n📅 Wann? 4. Mai 2025 \n📍 Wo? Weißenburgstraße\, Köln (zwischen Kiosk Pico Coffee & Hülchrather Straße) \n⏰ Start? 15:00 Uhr \n💡 Bringt euch\, eure Nachbar:innen und eure Ideen mit – wir freuen uns auf euch! \nEuer Veedelsfreiraum-Team \nP.S.: Keinen Tisch? Keine Sorge – wir finden eine Lösung! 😉
URL:https://veedelsfreiraum.de/event/langedesch/
LOCATION:Weißenburgstraße Köln\, Weißenburgstraße 40\, Köln\, 50670
END:VEVENT
BEGIN:VEVENT
DTSTART;TZID=Europe/Berlin:20250518T140000
DTEND;TZID=Europe/Berlin:20250518T180000
DTSTAMP:20260420T060343
CREATED:20250409T115554Z
LAST-MODIFIED:20250514T120141Z
UID:898-1747576800-1747591200@veedelsfreiraum.de
SUMMARY:Freiraum Neusser Straße 3.0
DESCRIPTION:🎉 Freiraum-Demo Neusser Straße 3.0\nDer Raum ist frei\, macht ihn euch schön! 🚧🎈🌸 \n📅 Sonntag\, 18. Mai 2025 \n🕑 14:00 – 18:00 Uhr \n📍 Zwischen Agneskirche und Balthasarstraße \n\n“Et hätt sich jetripp – dreimol is Tradition!” \nZum dritten Mal verwandeln wir die Neusser Straße in einen Ort der Begegnung\, des Spiels\, der Musik – und der politischen Botschaften. \nAm 18. Mai 2025 demonstrieren wir erneut für ein lebenswertes Agnesviertel. Mit kreativen\, friedlichen Mitteln zeigen wir\, wie der Stadtraum aussehen könnte: sicher\, grün\, gemeinschaftlich und menschlich. \n\nWarum wir demonstrieren\nMit der Freiraum-Demo setzen wir uns ein für: \n\nkonsumfreie Begegnungsorte im öffentlichen Raum\nmehr Sicherheit und Bewegungsfreiheit für Kinder\, ältere Menschen & Menschen mit Einschränkungen\neine stärkere Bürger:innenbeteiligung bei der Gestaltung des Stadtraums\nkonkrete Maßnahmen für ein klimafreundliches Köln (z. B. Superblocks)\n\nDie Neusser Straße steht exemplarisch für einen Raum\, der bisher fast ausschließlich dem Durchgangsverkehr dient. Am 18. Mai zeigen wir: Es geht auch anders. \n\nWas euch erwartet\n🎷 Musik & Tanz: \n\nSwing-Tanz mit den Lindy Hoppern von Swingtimes Köln\nLive-Musik von Hagen’s Little Big Horns\n17:00 Uhr: Offener Solojazz-Tanzworkshop für alle\n\n🎨 Ausstellung & Info: \n\nFotoausstellung zum Thema Superblocks\nMitmachaktionen & Umfragen zum Thema Freiraum\nInfostand Veedelsfreiraum mit Einblick in unsere Arbeit & Vision\n\n👧👟 Für Kinder & Familien: \n\nRiesenseifenblasen\nBookbike mit Kinderbüchern\nFahrradparcours (bitte Fahrrad\, Laufrad\, Roller oder Inliner mitbringen)\nFußballtore & Freifläche für Bewegung\n\n🤝 Mit dabei: \n\nIGLU gUG\nInitiative Klimakinder\n…und viele Menschen aus dem Veedel\, die ihre Ideen\, Tische oder Spiele mitbringen!\n\n\n📣 Kundgebungen\n\n14:00 Uhr – Eröffnung durch Veedelsfreiraum\n15:30 Uhr – Beiträge von Sandra Schneeloch (Grüne) und Dominik Kerl (Veedelsfreiraum)\n\n\n💛 Der Freiraum gehört euch!\nOb ihr picknicken\, tanzen\, lesen\, diskutieren oder einfach nur verweilen wollt – \nnutzt den Raum so\, wie ihr es euch für jeden Tag wünscht! \n  \nUnsere politischen Botschaften: \n      
URL:https://veedelsfreiraum.de/event/freiraum-3-0/
LOCATION:Veedelsfreiraum Neusser Straße\, Neusser Platz\, Köln
ATTACH;FMTTYPE=image/png:https://veedelsfreiraum.de/wp-content/uploads/2025/04/2025-Freiraum-Neusser-3.0-Insta-Story-Quadrat-1.png
END:VEVENT
END:VCALENDAR